BEGIN:VCALENDAR
PRODID:-//github.com/rianjs/ical.net//NONSGML ical.net 4.0//EN
VERSION:2.0
BEGIN:VTIMEZONE
TZID:Eastern Standard Time
X-LIC-LOCATION:America/New_York
BEGIN:STANDARD
DTSTART:20241103T020000
RRULE:FREQ=YEARLY;BYDAY=1SU;BYMONTH=11
TZNAME:EST
TZOFFSETFROM:-0400
TZOFFSETTO:-0500
END:STANDARD
BEGIN:DAYLIGHT
DTSTART:20250309T020000
RRULE:FREQ=YEARLY;BYDAY=2SU;BYMONTH=3
TZNAME:EDT
TZOFFSETFROM:-0500
TZOFFSETTO:-0400
END:DAYLIGHT
END:VTIMEZONE
BEGIN:VEVENT
DESCRIPTION:2019 Annual Meeting by the American Academy of Neurology\n\nTi
 tle: Neurology Update II: Behavioral Neurology\, Movement Disorders\, and
  Neuro-ophthalmology\n\nAccess URL: https://www.aan.com/msa/Public/Events
 /GetEventURL/6507\n\nLearn More About This Event: https://www.aan.com/msa
 /Public/Events/Details/6507
DTEND;TZID=Eastern Standard Time:20190505T173000
DTSTAMP:20260424T054105Z
DTSTART;TZID=Eastern Standard Time:20190505T153000
LOCATION:https://www.aan.com/msa/Public/Events/GetEventURL/6507
SEQUENCE:0
SUMMARY:AAN: Neurology Update II: Behavioral Neurology\, Movement Disorder
 s\, and Neuro-ophthalmology
UID:c9b84a7d-7249-41f9-88ca-5ebf35ea2d17
END:VEVENT
END:VCALENDAR
