BEGIN:VCALENDAR
PRODID:-//github.com/rianjs/ical.net//NONSGML ical.net 4.0//EN
VERSION:2.0
BEGIN:VEVENT
DESCRIPTION:2006 Annual Meeting by the American Academy of Neurology\n\nTi
 tle: Borderlands of Neurology and Internal Medicine\n\nAccess URL: https:
 //www.aan.com/msa/Public/Events/GetEventURL/651\n\nLearn More About This 
 Event: https://www.aan.com/msa/Public/Events/Details/651
DTEND:20110411T180000
DTSTAMP:20260424T122034Z
DTSTART:20110411T141500
LOCATION:https://www.aan.com/msa/Public/Events/GetEventURL/651
SEQUENCE:0
SUMMARY:AAN: Borderlands of Neurology and Internal Medicine
UID:83b76590-eb02-44dc-a670-5dacc2c98aa8
END:VEVENT
END:VCALENDAR
