BEGIN:VCALENDAR
PRODID:-//github.com/rianjs/ical.net//NONSGML ical.net 4.0//EN
VERSION:2.0
BEGIN:VEVENT
DESCRIPTION:2006 Annual Meeting by the American Academy of Neurology\n\nTi
 tle: Genetics in Neurology\n\nAccess URL: https://www.aan.com/msa/Public/
 Events/GetEventURL/652\n\nLearn More About This Event: https://www.aan.co
 m/msa/Public/Events/Details/652
DTEND:20060403T170000
DTSTAMP:20260424T121902Z
DTSTART:20060403T090000
LOCATION:https://www.aan.com/msa/Public/Events/GetEventURL/652
SEQUENCE:0
SUMMARY:AAN: Genetics in Neurology
UID:437e9df6-6130-4f67-8558-f51556ae1e74
END:VEVENT
END:VCALENDAR
