BEGIN:VCALENDAR
PRODID:-//github.com/rianjs/ical.net//NONSGML ical.net 4.0//EN
VERSION:2.0
BEGIN:VEVENT
DESCRIPTION:2006 Annual Meeting by the American Academy of Neurology\n\nTi
 tle: Clinical Research Methods\n\nAccess URL: https://www.aan.com/msa/Pub
 lic/Events/GetEventURL/653\n\nLearn More About This Event: https://www.aa
 n.com/msa/Public/Events/Details/653
DTEND:20060403T170000
DTSTAMP:20260424T121918Z
DTSTART:20060403T090000
LOCATION:https://www.aan.com/msa/Public/Events/GetEventURL/653
SEQUENCE:0
SUMMARY:AAN: Clinical Research Methods
UID:20df2f7c-de10-482b-b747-3fe3b38db430
END:VEVENT
END:VCALENDAR
