BEGIN:VCALENDAR
PRODID:-//github.com/rianjs/ical.net//NONSGML ical.net 4.0//EN
VERSION:2.0
BEGIN:VEVENT
DESCRIPTION:2006 Annual Meeting by the American Academy of Neurology\n\nTi
 tle: Update on Multiple Sclerosis\n\nAccess URL: https://www.aan.com/msa/
 Public/Events/GetEventURL/654\n\nLearn More About This Event: https://www
 .aan.com/msa/Public/Events/Details/654
DTEND:20060403T170000
DTSTAMP:20260424T122034Z
DTSTART:20060403T090000
LOCATION:https://www.aan.com/msa/Public/Events/GetEventURL/654
SEQUENCE:0
SUMMARY:AAN: Update on Multiple Sclerosis
UID:8eab234d-e733-439f-8e4d-121fac5a0ea1
END:VEVENT
END:VCALENDAR
