BEGIN:VCALENDAR
PRODID:-//github.com/rianjs/ical.net//NONSGML ical.net 4.0//EN
VERSION:2.0
BEGIN:VTIMEZONE
TZID:Eastern Standard Time
X-LIC-LOCATION:America/New_York
BEGIN:STANDARD
DTSTART:20241103T020000
RRULE:FREQ=YEARLY;BYDAY=1SU;BYMONTH=11
TZNAME:EST
TZOFFSETFROM:-0400
TZOFFSETTO:-0500
END:STANDARD
BEGIN:DAYLIGHT
DTSTART:20250309T020000
RRULE:FREQ=YEARLY;BYDAY=2SU;BYMONTH=3
TZNAME:EDT
TZOFFSETFROM:-0500
TZOFFSETTO:-0400
END:DAYLIGHT
END:VTIMEZONE
BEGIN:VEVENT
DESCRIPTION:2019 Annual Meeting by the American Academy of Neurology\n\nTi
 tle: Clinical EMG II: Case-based Clinical Applications of Nerve Conductio
 n Studies and Needle Electromyography\n\nAccess URL: https://www.aan.com/
 msa/Public/Events/GetEventURL/6547\n\nLearn More About This Event: https:
 //www.aan.com/msa/Public/Events/Details/6547
DTEND;TZID=Eastern Standard Time:20190506T173000
DTSTAMP:20260424T054000Z
DTSTART;TZID=Eastern Standard Time:20190506T153000
LOCATION:https://www.aan.com/msa/Public/Events/GetEventURL/6547
SEQUENCE:0
SUMMARY:AAN: Clinical EMG II: Case-based Clinical Applications of Nerve Co
 nduction Studies and Needle Electromyography
UID:2080cde2-68ef-4d73-97cc-3f6036d9e1d5
END:VEVENT
END:VCALENDAR
