BEGIN:VCALENDAR
PRODID:-//github.com/rianjs/ical.net//NONSGML ical.net 4.0//EN
VERSION:2.0
BEGIN:VEVENT
DESCRIPTION:2006 Annual Meeting by the American Academy of Neurology\n\nTi
 tle: Child Neurology\n\nAccess URL: https://www.aan.com/msa/Public/Events
 /GetEventURL/655\n\nLearn More About This Event: https://www.aan.com/msa/
 Public/Events/Details/655
DTEND:20060403T170000
DTSTAMP:20260424T121919Z
DTSTART:20060403T090000
LOCATION:https://www.aan.com/msa/Public/Events/GetEventURL/655
SEQUENCE:0
SUMMARY:AAN: Child Neurology
UID:e73b4f29-0452-4783-b293-4ad9527a44b6
END:VEVENT
END:VCALENDAR
