BEGIN:VCALENDAR
PRODID:-//github.com/rianjs/ical.net//NONSGML ical.net 4.0//EN
VERSION:2.0
BEGIN:VTIMEZONE
TZID:Eastern Standard Time
X-LIC-LOCATION:America/New_York
BEGIN:STANDARD
DTSTART:20241103T020000
RRULE:FREQ=YEARLY;BYDAY=1SU;BYMONTH=11
TZNAME:EST
TZOFFSETFROM:-0400
TZOFFSETTO:-0500
END:STANDARD
BEGIN:DAYLIGHT
DTSTART:20250309T020000
RRULE:FREQ=YEARLY;BYDAY=2SU;BYMONTH=3
TZNAME:EDT
TZOFFSETFROM:-0500
TZOFFSETTO:-0400
END:DAYLIGHT
END:VTIMEZONE
BEGIN:VEVENT
DESCRIPTION:2019 Annual Meeting by the American Academy of Neurology\n\nTi
 tle: Clinical Epilepsy II: Considerations Across the Age Span: Pediatrics
 \, Pregnancy\, and Elderly\n\nAccess URL: https://www.aan.com/msa/Public/
 Events/GetEventURL/6550\n\nLearn More About This Event: https://www.aan.c
 om/msa/Public/Events/Details/6550
DTEND;TZID=Eastern Standard Time:20190506T173000
DTSTAMP:20260424T053955Z
DTSTART;TZID=Eastern Standard Time:20190506T153000
LOCATION:https://www.aan.com/msa/Public/Events/GetEventURL/6550
SEQUENCE:0
SUMMARY:AAN: Clinical Epilepsy II: Considerations Across the Age Span: Ped
 iatrics\, Pregnancy\, and Elderly
UID:baead066-89b7-4b63-b1d0-8c153d8ac54d
END:VEVENT
END:VCALENDAR
