BEGIN:VCALENDAR
PRODID:-//github.com/rianjs/ical.net//NONSGML ical.net 4.0//EN
VERSION:2.0
BEGIN:VEVENT
DESCRIPTION:2006 Annual Meeting by the American Academy of Neurology\n\nTi
 tle: Behavioral Neurology: Issues in Cognitive Impairment\n\nAccess URL: 
 https://www.aan.com/msa/Public/Events/GetEventURL/656\n\nLearn More About
  This Event: https://www.aan.com/msa/Public/Events/Details/656
DTEND:20060403T180000
DTSTAMP:20260424T121902Z
DTSTART:20060403T141500
LOCATION:https://www.aan.com/msa/Public/Events/GetEventURL/656
SEQUENCE:0
SUMMARY:AAN: Behavioral Neurology: Issues in Cognitive Impairment
UID:154d6cfb-803a-4346-9843-1599bbcb3f36
END:VEVENT
END:VCALENDAR
