BEGIN:VCALENDAR
PRODID:-//github.com/rianjs/ical.net//NONSGML ical.net 4.0//EN
VERSION:2.0
BEGIN:VTIMEZONE
TZID:Eastern Standard Time
X-LIC-LOCATION:America/New_York
BEGIN:STANDARD
DTSTART:20241103T020000
RRULE:FREQ=YEARLY;BYDAY=1SU;BYMONTH=11
TZNAME:EST
TZOFFSETFROM:-0400
TZOFFSETTO:-0500
END:STANDARD
BEGIN:DAYLIGHT
DTSTART:20250309T020000
RRULE:FREQ=YEARLY;BYDAY=2SU;BYMONTH=3
TZNAME:EDT
TZOFFSETFROM:-0500
TZOFFSETTO:-0400
END:DAYLIGHT
END:VTIMEZONE
BEGIN:VEVENT
DESCRIPTION:2019 Annual Meeting by the American Academy of Neurology\n\nTi
 tle: Clinical Epilepsy III: Advanced (Status\, Beyond AED\, Video EEG) \n
 \nAccess URL: https://www.aan.com/msa/Public/Events/GetEventURL/6561\n\nL
 earn More About This Event: https://www.aan.com/msa/Public/Events/Details
 /6561
DTEND;TZID=Eastern Standard Time:20190507T150000
DTSTAMP:20260424T053956Z
DTSTART;TZID=Eastern Standard Time:20190507T130000
LOCATION:https://www.aan.com/msa/Public/Events/GetEventURL/6561
SEQUENCE:0
SUMMARY:AAN: Clinical Epilepsy III: Advanced (Status\, Beyond AED\, Video 
 EEG)
UID:c6eff5eb-b281-462d-90e0-fdaeb192d060
END:VEVENT
END:VCALENDAR
