BEGIN:VCALENDAR
PRODID:-//github.com/rianjs/ical.net//NONSGML ical.net 4.0//EN
VERSION:2.0
BEGIN:VEVENT
DESCRIPTION:2006 Annual Meeting by the American Academy of Neurology\n\nTi
 tle: Update on Endovascular Treatment of Cerebrovascular Diseases\n\nAcce
 ss URL: https://www.aan.com/msa/Public/Events/GetEventURL/657\n\nLearn Mo
 re About This Event: https://www.aan.com/msa/Public/Events/Details/657
DTEND:20060403T180000
DTSTAMP:20260424T121903Z
DTSTART:20060403T141500
LOCATION:https://www.aan.com/msa/Public/Events/GetEventURL/657
SEQUENCE:0
SUMMARY:AAN: Update on Endovascular Treatment of Cerebrovascular Diseases
UID:323fd1ae-d7e0-4a4b-a80c-e18d5ea36af7
END:VEVENT
END:VCALENDAR
