BEGIN:VCALENDAR
PRODID:-//github.com/rianjs/ical.net//NONSGML ical.net 4.0//EN
VERSION:2.0
BEGIN:VEVENT
DESCRIPTION:2006 Annual Meeting by the American Academy of Neurology\n\nTi
 tle: Electronic Health Records: Great Tools to Enhance Practice\n\nAccess
  URL: https://www.aan.com/msa/Public/Events/GetEventURL/659\n\nLearn More
  About This Event: https://www.aan.com/msa/Public/Events/Details/659
DTEND:20060403T133000
DTSTAMP:20260424T121900Z
DTSTART:20060403T120000
LOCATION:https://www.aan.com/msa/Public/Events/GetEventURL/659
SEQUENCE:0
SUMMARY:AAN: Electronic Health Records: Great Tools to Enhance Practice
UID:4da71d36-b547-478d-99db-c08931bd5b05
END:VEVENT
END:VCALENDAR
