BEGIN:VCALENDAR
PRODID:-//github.com/rianjs/ical.net//NONSGML ical.net 4.0//EN
VERSION:2.0
BEGIN:VTIMEZONE
TZID:Eastern Standard Time
X-LIC-LOCATION:America/New_York
BEGIN:STANDARD
DTSTART:20241103T020000
RRULE:FREQ=YEARLY;BYDAY=1SU;BYMONTH=11
TZNAME:EST
TZOFFSETFROM:-0400
TZOFFSETTO:-0500
END:STANDARD
BEGIN:DAYLIGHT
DTSTART:20250309T020000
RRULE:FREQ=YEARLY;BYDAY=2SU;BYMONTH=3
TZNAME:EDT
TZOFFSETFROM:-0500
TZOFFSETTO:-0400
END:DAYLIGHT
END:VTIMEZONE
BEGIN:VEVENT
DESCRIPTION:2019 Annual Meeting by the American Academy of Neurology\n\nTi
 tle: Clinical Epilepsy IV: Surgery\n\nAccess URL: https://www.aan.com/msa
 /Public/Events/GetEventURL/6592\n\nLearn More About This Event: https://w
 ww.aan.com/msa/Public/Events/Details/6592
DTEND;TZID=Eastern Standard Time:20190507T173000
DTSTAMP:20260424T053957Z
DTSTART;TZID=Eastern Standard Time:20190507T153000
LOCATION:https://www.aan.com/msa/Public/Events/GetEventURL/6592
SEQUENCE:0
SUMMARY:AAN: Clinical Epilepsy IV: Surgery
UID:119129a1-fbc4-43eb-8eea-1004f929e40f
END:VEVENT
END:VCALENDAR
