BEGIN:VCALENDAR
PRODID:-//github.com/rianjs/ical.net//NONSGML ical.net 4.0//EN
VERSION:2.0
BEGIN:VTIMEZONE
TZID:Eastern Standard Time
X-LIC-LOCATION:America/New_York
BEGIN:STANDARD
DTSTART:20241103T020000
RRULE:FREQ=YEARLY;BYDAY=1SU;BYMONTH=11
TZNAME:EST
TZOFFSETFROM:-0400
TZOFFSETTO:-0500
END:STANDARD
BEGIN:DAYLIGHT
DTSTART:20250309T020000
RRULE:FREQ=YEARLY;BYDAY=2SU;BYMONTH=3
TZNAME:EDT
TZOFFSETFROM:-0500
TZOFFSETTO:-0400
END:DAYLIGHT
END:VTIMEZONE
BEGIN:VEVENT
DESCRIPTION:2019 Annual Meeting by the American Academy of Neurology\n\nTi
 tle: Lumbar Radiculopathy\, Lumbar Spinal Stenosis\, Low Back Pain\, and 
 Failed Back Syndrome\n\nAccess URL: https://www.aan.com/msa/Public/Events
 /GetEventURL/6597\n\nLearn More About This Event: https://www.aan.com/msa
 /Public/Events/Details/6597
DTEND;TZID=Eastern Standard Time:20190508T090000
DTSTAMP:20260424T053924Z
DTSTART;TZID=Eastern Standard Time:20190508T070000
LOCATION:https://www.aan.com/msa/Public/Events/GetEventURL/6597
SEQUENCE:0
SUMMARY:AAN: Lumbar Radiculopathy\, Lumbar Spinal Stenosis\, Low Back Pain
 \, and Failed Back Syndrome
UID:813057f8-b6fe-425c-943b-bca577c23a90
END:VEVENT
END:VCALENDAR
