BEGIN:VCALENDAR
PRODID:-//github.com/rianjs/ical.net//NONSGML ical.net 4.0//EN
VERSION:2.0
BEGIN:VTIMEZONE
TZID:Eastern Standard Time
X-LIC-LOCATION:America/New_York
BEGIN:STANDARD
DTSTART:20241103T020000
RRULE:FREQ=YEARLY;BYDAY=1SU;BYMONTH=11
TZNAME:EST
TZOFFSETFROM:-0400
TZOFFSETTO:-0500
END:STANDARD
BEGIN:DAYLIGHT
DTSTART:20250309T020000
RRULE:FREQ=YEARLY;BYDAY=2SU;BYMONTH=3
TZNAME:EDT
TZOFFSETFROM:-0500
TZOFFSETTO:-0400
END:DAYLIGHT
END:VTIMEZONE
BEGIN:VEVENT
DESCRIPTION:2019 Annual Meeting by the American Academy of Neurology\n\nTi
 tle: Maximizing Quality of Life in Stroke\, ALS\, Parkinson’s Disease\, a
 nd Dementia: A Palliative Approach\n\nAccess URL: https://www.aan.com/msa
 /Public/Events/GetEventURL/6607\n\nLearn More About This Event: https://w
 ww.aan.com/msa/Public/Events/Details/6607
DTEND;TZID=Eastern Standard Time:20190508T150000
DTSTAMP:20260424T053922Z
DTSTART;TZID=Eastern Standard Time:20190508T130000
LOCATION:https://www.aan.com/msa/Public/Events/GetEventURL/6607
SEQUENCE:0
SUMMARY:AAN: Maximizing Quality of Life in Stroke\, ALS\, Parkinson’s Dise
 ase\, and Dementia: A Palliative Approach
UID:5f40a64f-a303-4fb5-b017-0a85952a5b66
END:VEVENT
END:VCALENDAR
