BEGIN:VCALENDAR
PRODID:-//github.com/rianjs/ical.net//NONSGML ical.net 4.0//EN
VERSION:2.0
BEGIN:VTIMEZONE
TZID:Eastern Standard Time
X-LIC-LOCATION:America/New_York
BEGIN:STANDARD
DTSTART:20241103T020000
RRULE:FREQ=YEARLY;BYDAY=1SU;BYMONTH=11
TZNAME:EST
TZOFFSETFROM:-0400
TZOFFSETTO:-0500
END:STANDARD
BEGIN:DAYLIGHT
DTSTART:20250309T020000
RRULE:FREQ=YEARLY;BYDAY=2SU;BYMONTH=3
TZNAME:EDT
TZOFFSETFROM:-0500
TZOFFSETTO:-0400
END:DAYLIGHT
END:VTIMEZONE
BEGIN:VEVENT
DESCRIPTION:2019 Annual Meeting by the American Academy of Neurology\n\nTi
 tle: Neurological Intensive Care II: Acute Brain and Spinal Cord Injury a
 nd Acute Neuromuscular Dysfunction\n\nAccess URL: https://www.aan.com/msa
 /Public/Events/GetEventURL/6612\n\nLearn More About This Event: https://w
 ww.aan.com/msa/Public/Events/Details/6612
DTEND;TZID=Eastern Standard Time:20190508T150000
DTSTAMP:20260424T054212Z
DTSTART;TZID=Eastern Standard Time:20190508T130000
LOCATION:https://www.aan.com/msa/Public/Events/GetEventURL/6612
SEQUENCE:0
SUMMARY:AAN: Neurological Intensive Care II: Acute Brain and Spinal Cord I
 njury and Acute Neuromuscular Dysfunction
UID:5216d100-47f1-4201-acda-09dfc212dd13
END:VEVENT
END:VCALENDAR
