BEGIN:VCALENDAR
PRODID:-//github.com/rianjs/ical.net//NONSGML ical.net 4.0//EN
VERSION:2.0
BEGIN:VTIMEZONE
TZID:Eastern Standard Time
X-LIC-LOCATION:America/New_York
BEGIN:STANDARD
DTSTART:20241103T020000
RRULE:FREQ=YEARLY;BYDAY=1SU;BYMONTH=11
TZNAME:EST
TZOFFSETFROM:-0400
TZOFFSETTO:-0500
END:STANDARD
BEGIN:DAYLIGHT
DTSTART:20250309T020000
RRULE:FREQ=YEARLY;BYDAY=2SU;BYMONTH=3
TZNAME:EDT
TZOFFSETFROM:-0500
TZOFFSETTO:-0400
END:DAYLIGHT
END:VTIMEZONE
BEGIN:VEVENT
DESCRIPTION:2019 Annual Meeting by the American Academy of Neurology\n\nTi
 tle: Reading\, Critiquing\, and Reviewing the Neurologic Literature: An E
 vidence-based Approach and Case-based Presentation of Peer Reviews in Neu
 rology\n\nAccess URL: https://www.aan.com/msa/Public/Events/GetEventURL/6
 615\n\nLearn More About This Event: https://www.aan.com/msa/Public/Events
 /Details/6615
DTEND;TZID=Eastern Standard Time:20190508T150000
DTSTAMP:20260424T054138Z
DTSTART;TZID=Eastern Standard Time:20190508T130000
LOCATION:https://www.aan.com/msa/Public/Events/GetEventURL/6615
SEQUENCE:0
SUMMARY:AAN: Reading\, Critiquing\, and Reviewing the Neurologic Literatur
 e: An Evidence-based Approach and Case-based Presentation of Peer Reviews
  in Neurology
UID:c4ac910b-5e09-4d6e-a26f-aa071c304cec
END:VEVENT
END:VCALENDAR
