BEGIN:VCALENDAR
PRODID:-//github.com/rianjs/ical.net//NONSGML ical.net 4.0//EN
VERSION:2.0
BEGIN:VTIMEZONE
TZID:Eastern Standard Time
X-LIC-LOCATION:America/New_York
BEGIN:STANDARD
DTSTART:20241103T020000
RRULE:FREQ=YEARLY;BYDAY=1SU;BYMONTH=11
TZNAME:EST
TZOFFSETFROM:-0400
TZOFFSETTO:-0500
END:STANDARD
BEGIN:DAYLIGHT
DTSTART:20250309T020000
RRULE:FREQ=YEARLY;BYDAY=2SU;BYMONTH=3
TZNAME:EDT
TZOFFSETFROM:-0500
TZOFFSETTO:-0400
END:DAYLIGHT
END:VTIMEZONE
BEGIN:VEVENT
DESCRIPTION:2019 Annual Meeting by the American Academy of Neurology\n\nTi
 tle: Comprehensive Migraine Update II: Pharmacologic and Non-Pharmacologi
 c Therapies\n\nAccess URL: https://www.aan.com/msa/Public/Events/GetEvent
 URL/6626\n\nLearn More About This Event: https://www.aan.com/msa/Public/E
 vents/Details/6626
DTEND;TZID=Eastern Standard Time:20190508T173000
DTSTAMP:20260424T054059Z
DTSTART;TZID=Eastern Standard Time:20190508T153000
LOCATION:https://www.aan.com/msa/Public/Events/GetEventURL/6626
SEQUENCE:0
SUMMARY:AAN: Comprehensive Migraine Update II: Pharmacologic and Non-Pharm
 acologic Therapies
UID:98f254b1-884f-4501-b7c7-dd80f3390d8e
END:VEVENT
END:VCALENDAR
