BEGIN:VCALENDAR
PRODID:-//github.com/rianjs/ical.net//NONSGML ical.net 4.0//EN
VERSION:2.0
BEGIN:VEVENT
DESCRIPTION:2006 Annual Meeting by the American Academy of Neurology\n\nTi
 tle: Therapy of Pediatric Genetic Neurological Disorders\n\nAccess URL: h
 ttps://www.aan.com/msa/Public/Events/GetEventURL/665\n\nLearn More About 
 This Event: https://www.aan.com/msa/Public/Events/Details/665
DTEND:20060403T213000
DTSTAMP:20260424T121918Z
DTSTART:20060403T183000
LOCATION:https://www.aan.com/msa/Public/Events/GetEventURL/665
SEQUENCE:0
SUMMARY:AAN: Therapy of Pediatric Genetic Neurological Disorders
UID:9ffe1b98-2d95-451b-adf1-64149ee37c83
END:VEVENT
END:VCALENDAR
