BEGIN:VCALENDAR
PRODID:-//github.com/rianjs/ical.net//NONSGML ical.net 4.0//EN
VERSION:2.0
BEGIN:VTIMEZONE
TZID:Eastern Standard Time
X-LIC-LOCATION:America/New_York
BEGIN:STANDARD
DTSTART:20241103T020000
RRULE:FREQ=YEARLY;BYDAY=1SU;BYMONTH=11
TZNAME:EST
TZOFFSETFROM:-0400
TZOFFSETTO:-0500
END:STANDARD
BEGIN:DAYLIGHT
DTSTART:20250309T020000
RRULE:FREQ=YEARLY;BYDAY=2SU;BYMONTH=3
TZNAME:EDT
TZOFFSETFROM:-0500
TZOFFSETTO:-0400
END:DAYLIGHT
END:VTIMEZONE
BEGIN:VEVENT
DESCRIPTION:2019 Annual Meeting by the American Academy of Neurology\n\nTi
 tle: Women With Epilepsy (WWE):  Beyond Seizure Control\n\nAccess URL: ht
 tps://www.aan.com/msa/Public/Events/GetEventURL/6662\n\nLearn More About 
 This Event: https://www.aan.com/msa/Public/Events/Details/6662
DTEND;TZID=Eastern Standard Time:20190509T173000
DTSTAMP:20260424T054140Z
DTSTART;TZID=Eastern Standard Time:20190509T153000
LOCATION:https://www.aan.com/msa/Public/Events/GetEventURL/6662
SEQUENCE:0
SUMMARY:AAN: Women With Epilepsy (WWE):  Beyond Seizure Control
UID:615c092c-7cb8-44c7-828b-240a15f1178c
END:VEVENT
END:VCALENDAR
