BEGIN:VCALENDAR
PRODID:-//github.com/rianjs/ical.net//NONSGML ical.net 4.0//EN
VERSION:2.0
BEGIN:VTIMEZONE
TZID:Eastern Standard Time
X-LIC-LOCATION:America/New_York
BEGIN:STANDARD
DTSTART:20241103T020000
RRULE:FREQ=YEARLY;BYDAY=1SU;BYMONTH=11
TZNAME:EST
TZOFFSETFROM:-0400
TZOFFSETTO:-0500
END:STANDARD
BEGIN:DAYLIGHT
DTSTART:20250309T020000
RRULE:FREQ=YEARLY;BYDAY=2SU;BYMONTH=3
TZNAME:EDT
TZOFFSETFROM:-0500
TZOFFSETTO:-0400
END:DAYLIGHT
END:VTIMEZONE
BEGIN:VEVENT
DESCRIPTION:2019 Annual Meeting by the American Academy of Neurology\n\nTi
 tle: Neuro-rheumatology: Neurological Manifestations of Systemic Inflamma
 tory and Autoimmune Disease II\n\nAccess URL: https://www.aan.com/msa/Pub
 lic/Events/GetEventURL/6665\n\nLearn More About This Event: https://www.a
 an.com/msa/Public/Events/Details/6665
DTEND;TZID=Eastern Standard Time:20190509T173000
DTSTAMP:20260424T054037Z
DTSTART;TZID=Eastern Standard Time:20190509T153000
LOCATION:https://www.aan.com/msa/Public/Events/GetEventURL/6665
SEQUENCE:0
SUMMARY:AAN: Neuro-rheumatology: Neurological Manifestations of Systemic I
 nflammatory and Autoimmune Disease II
UID:908c7c38-f460-4a87-a858-8cd1cffc65fc
END:VEVENT
END:VCALENDAR
