BEGIN:VCALENDAR
PRODID:-//github.com/rianjs/ical.net//NONSGML ical.net 4.0//EN
VERSION:2.0
BEGIN:VEVENT
DESCRIPTION:2006 Annual Meeting by the American Academy of Neurology\n\nTi
 tle: Neurological Complications of Emerging Infections and Bioterrorism\n
 \nAccess URL: https://www.aan.com/msa/Public/Events/GetEventURL/667\n\nLe
 arn More About This Event: https://www.aan.com/msa/Public/Events/Details/
 667
DTEND:20060403T213000
DTSTAMP:20260424T121900Z
DTSTART:20060403T183000
LOCATION:https://www.aan.com/msa/Public/Events/GetEventURL/667
SEQUENCE:0
SUMMARY:AAN: Neurological Complications of Emerging Infections and Bioterr
 orism
UID:a99bc56a-ded9-45e6-aa38-ad715d33edcc
END:VEVENT
END:VCALENDAR
