BEGIN:VCALENDAR
PRODID:-//github.com/rianjs/ical.net//NONSGML ical.net 4.0//EN
VERSION:2.0
BEGIN:VTIMEZONE
TZID:Eastern Standard Time
X-LIC-LOCATION:America/New_York
BEGIN:STANDARD
DTSTART:20241103T020000
RRULE:FREQ=YEARLY;BYDAY=1SU;BYMONTH=11
TZNAME:EST
TZOFFSETFROM:-0400
TZOFFSETTO:-0500
END:STANDARD
BEGIN:DAYLIGHT
DTSTART:20250309T020000
RRULE:FREQ=YEARLY;BYDAY=2SU;BYMONTH=3
TZNAME:EDT
TZOFFSETFROM:-0500
TZOFFSETTO:-0400
END:DAYLIGHT
END:VTIMEZONE
BEGIN:VEVENT
DESCRIPTION:2019 Annual Meeting by the American Academy of Neurology\n\nTi
 tle: Controversies in Stroke Treatment and Prevention\n\nAccess URL: http
 s://www.aan.com/msa/Public/Events/GetEventURL/6677\n\nLearn More About Th
 is Event: https://www.aan.com/msa/Public/Events/Details/6677
DTEND;TZID=Eastern Standard Time:20190510T090000
DTSTAMP:20260424T053959Z
DTSTART;TZID=Eastern Standard Time:20190510T070000
LOCATION:https://www.aan.com/msa/Public/Events/GetEventURL/6677
SEQUENCE:0
SUMMARY:AAN: Controversies in Stroke Treatment and Prevention
UID:9f8f163b-0575-4fad-8c86-f3f60080d489
END:VEVENT
END:VCALENDAR
