BEGIN:VCALENDAR
PRODID:-//github.com/rianjs/ical.net//NONSGML ical.net 4.0//EN
VERSION:2.0
BEGIN:VTIMEZONE
TZID:Eastern Standard Time
X-LIC-LOCATION:America/New_York
BEGIN:STANDARD
DTSTART:20241103T020000
RRULE:FREQ=YEARLY;BYDAY=1SU;BYMONTH=11
TZNAME:EST
TZOFFSETFROM:-0400
TZOFFSETTO:-0500
END:STANDARD
BEGIN:DAYLIGHT
DTSTART:20250309T020000
RRULE:FREQ=YEARLY;BYDAY=2SU;BYMONTH=3
TZNAME:EDT
TZOFFSETFROM:-0500
TZOFFSETTO:-0400
END:DAYLIGHT
END:VTIMEZONE
BEGIN:VEVENT
DESCRIPTION:2019 Annual Meeting by the American Academy of Neurology\n\nTi
 tle: Clinical Pearls: Learning from Complex Cases Simple Lessons that App
 ly to Everyday Problems \n\nAccess URL: https://www.aan.com/msa/Public/Ev
 ents/GetEventURL/6681\n\nLearn More About This Event: https://www.aan.com
 /msa/Public/Events/Details/6681
DTEND;TZID=Eastern Standard Time:20190510T090000
DTSTAMP:20260424T054135Z
DTSTART;TZID=Eastern Standard Time:20190510T070000
LOCATION:https://www.aan.com/msa/Public/Events/GetEventURL/6681
SEQUENCE:0
SUMMARY:AAN: Clinical Pearls: Learning from Complex Cases Simple Lessons t
 hat Apply to Everyday Problems
UID:d28e60c1-a648-423d-b204-82474cb47820
END:VEVENT
END:VCALENDAR
