BEGIN:VCALENDAR
PRODID:-//github.com/rianjs/ical.net//NONSGML ical.net 4.0//EN
VERSION:2.0
BEGIN:VEVENT
DESCRIPTION:2006 Annual Meeting by the American Academy of Neurology\n\nTi
 tle: Epilepsy Case Studies\n\nAccess URL: https://www.aan.com/msa/Public/
 Events/GetEventURL/670\n\nLearn More About This Event: https://www.aan.co
 m/msa/Public/Events/Details/670
DTEND:20060403T223000
DTSTAMP:20260424T122032Z
DTSTART:20060403T193000
LOCATION:https://www.aan.com/msa/Public/Events/GetEventURL/670
SEQUENCE:0
SUMMARY:AAN: Epilepsy Case Studies
UID:fc6e0e95-1eaa-4c7f-ab1b-36d3b8ec61db
END:VEVENT
END:VCALENDAR
