BEGIN:VCALENDAR
PRODID:-//github.com/rianjs/ical.net//NONSGML ical.net 4.0//EN
VERSION:2.0
BEGIN:VTIMEZONE
TZID:Eastern Standard Time
X-LIC-LOCATION:America/New_York
BEGIN:STANDARD
DTSTART:20241103T020000
RRULE:FREQ=YEARLY;BYDAY=1SU;BYMONTH=11
TZNAME:EST
TZOFFSETFROM:-0400
TZOFFSETTO:-0500
END:STANDARD
BEGIN:DAYLIGHT
DTSTART:20250309T020000
RRULE:FREQ=YEARLY;BYDAY=2SU;BYMONTH=3
TZNAME:EDT
TZOFFSETFROM:-0500
TZOFFSETTO:-0400
END:DAYLIGHT
END:VTIMEZONE
BEGIN:VEVENT
DESCRIPTION:2019 Annual Meeting by the American Academy of Neurology\n\nTi
 tle: Lifestyle Medicine: What It Is and Why It Should Be Your First Recou
 rse in Patient Care\n\nAccess URL: https://www.aan.com/msa/Public/Events/
 GetEventURL/6709\n\nLearn More About This Event: https://www.aan.com/msa/
 Public/Events/Details/6709
DTEND;TZID=Eastern Standard Time:20190509T163000
DTSTAMP:20260424T054102Z
DTSTART;TZID=Eastern Standard Time:20190509T154500
LOCATION:https://www.aan.com/msa/Public/Events/GetEventURL/6709
SEQUENCE:0
SUMMARY:AAN: Lifestyle Medicine: What It Is and Why It Should Be Your Firs
 t Recourse in Patient Care
UID:70b254f6-17e2-4535-b38d-48a845b9bc2f
END:VEVENT
END:VCALENDAR
