BEGIN:VCALENDAR
PRODID:-//github.com/rianjs/ical.net//NONSGML ical.net 4.0//EN
VERSION:2.0
BEGIN:VEVENT
DESCRIPTION:2006 Annual Meeting by the American Academy of Neurology\n\nTi
 tle: Critical Care Epilepsy/EEG\n\nAccess URL: https://www.aan.com/msa/Pu
 blic/Events/GetEventURL/672\n\nLearn More About This Event: https://www.a
 an.com/msa/Public/Events/Details/672
DTEND:20070430T223000
DTSTAMP:20260424T121919Z
DTSTART:20070430T193000
LOCATION:https://www.aan.com/msa/Public/Events/GetEventURL/672
SEQUENCE:0
SUMMARY:AAN: Critical Care Epilepsy/EEG
UID:cd768e8e-352f-4781-88c6-cf24423351a3
END:VEVENT
END:VCALENDAR
