BEGIN:VCALENDAR
PRODID:-//github.com/rianjs/ical.net//NONSGML ical.net 4.0//EN
VERSION:2.0
BEGIN:VEVENT
DESCRIPTION:2006 Annual Meeting by the American Academy of Neurology\n\nTi
 tle: Role of Inflammation in Atherosclerosis: Not Just a Cholesterol Dise
 ase\n\nAccess URL: https://www.aan.com/msa/Public/Events/GetEventURL/673\
 n\nLearn More About This Event: https://www.aan.com/msa/Public/Events/Det
 ails/673
DTEND:20070430T223000
DTSTAMP:20260424T122034Z
DTSTART:20070430T193000
LOCATION:https://www.aan.com/msa/Public/Events/GetEventURL/673
SEQUENCE:0
SUMMARY:AAN: Role of Inflammation in Atherosclerosis: Not Just a Cholester
 ol Disease
UID:a67d5998-8a32-4965-ab6d-8429ecfe1fb4
END:VEVENT
END:VCALENDAR
