BEGIN:VCALENDAR
PRODID:-//github.com/rianjs/ical.net//NONSGML ical.net 4.0//EN
VERSION:2.0
BEGIN:VEVENT
DESCRIPTION:2006 Annual Meeting by the American Academy of Neurology\n\nTi
 tle: A Clinician's Guide to Myoclonus\n\nAccess URL: https://www.aan.com/
 msa/Public/Events/GetEventURL/675\n\nLearn More About This Event: https:/
 /www.aan.com/msa/Public/Events/Details/675
DTEND:20060403T223000
DTSTAMP:20260424T121917Z
DTSTART:20060403T193000
LOCATION:https://www.aan.com/msa/Public/Events/GetEventURL/675
SEQUENCE:0
SUMMARY:AAN: A Clinician's Guide to Myoclonus
UID:aaee4fa8-5ac2-4a9c-95ab-51942f596708
END:VEVENT
END:VCALENDAR
