BEGIN:VCALENDAR
PRODID:-//github.com/rianjs/ical.net//NONSGML ical.net 4.0//EN
VERSION:2.0
BEGIN:VEVENT
DESCRIPTION:2006 Annual Meeting by the American Academy of Neurology\n\nTi
 tle: Clinical Grant Writing\n\nAccess URL: https://www.aan.com/msa/Public
 /Events/GetEventURL/679\n\nLearn More About This Event: https://www.aan.c
 om/msa/Public/Events/Details/679
DTEND:20060404T083000
DTSTAMP:20260424T121917Z
DTSTART:20060404T064500
LOCATION:https://www.aan.com/msa/Public/Events/GetEventURL/679
SEQUENCE:0
SUMMARY:AAN: Clinical Grant Writing
UID:95a4de47-c741-4d19-96ba-25aff7dae06f
END:VEVENT
END:VCALENDAR
