BEGIN:VCALENDAR
PRODID:-//github.com/rianjs/ical.net//NONSGML ical.net 4.0//EN
VERSION:2.0
BEGIN:VEVENT
DESCRIPTION:2006 Annual Meeting by the American Academy of Neurology\n\nTi
 tle: Neurological Complications of Medical Disease\n\nAccess URL: https:/
 /www.aan.com/msa/Public/Events/GetEventURL/680\n\nLearn More About This E
 vent: https://www.aan.com/msa/Public/Events/Details/680
DTEND:20060404T180000
DTSTAMP:20260424T121900Z
DTSTART:20060404T141500
LOCATION:https://www.aan.com/msa/Public/Events/GetEventURL/680
SEQUENCE:0
SUMMARY:AAN: Neurological Complications of Medical Disease
UID:f930e311-7a46-46ce-a88d-da65541b6195
END:VEVENT
END:VCALENDAR
