BEGIN:VCALENDAR
PRODID:-//github.com/rianjs/ical.net//NONSGML ical.net 4.0//EN
VERSION:2.0
BEGIN:VEVENT
DESCRIPTION:2006 Annual Meeting by the American Academy of Neurology\n\nTi
 tle: Video-EEG Monitoring in the Neurological Practice: Tools\, Technique
 s\, and Applications\n\nAccess URL: https://www.aan.com/msa/Public/Events
 /GetEventURL/681\n\nLearn More About This Event: https://www.aan.com/msa/
 Public/Events/Details/681
DTEND:20060404T180000
DTSTAMP:20260424T121900Z
DTSTART:20060404T141500
LOCATION:https://www.aan.com/msa/Public/Events/GetEventURL/681
SEQUENCE:0
SUMMARY:AAN: Video-EEG Monitoring in the Neurological Practice: Tools\, Te
 chniques\, and Applications
UID:8aeaf051-8a96-4b8a-9d75-537e31f5d90e
END:VEVENT
END:VCALENDAR
