BEGIN:VCALENDAR
PRODID:-//github.com/rianjs/ical.net//NONSGML ical.net 4.0//EN
VERSION:2.0
BEGIN:VEVENT
DESCRIPTION:2006 Annual Meeting by the American Academy of Neurology\n\nTi
 tle: Identification and Management of Ethical Issues in Neurological Prac
 tice\n\nAccess URL: https://www.aan.com/msa/Public/Events/GetEventURL/682
 \n\nLearn More About This Event: https://www.aan.com/msa/Public/Events/De
 tails/682
DTEND:20060404T180000
DTSTAMP:20260424T122035Z
DTSTART:20060404T141500
LOCATION:https://www.aan.com/msa/Public/Events/GetEventURL/682
SEQUENCE:0
SUMMARY:AAN: Identification and Management of Ethical Issues in Neurologic
 al Practice
UID:ccc1b7fd-b573-4316-9abf-8e175552c164
END:VEVENT
END:VCALENDAR
