BEGIN:VCALENDAR
PRODID:-//github.com/rianjs/ical.net//NONSGML ical.net 4.0//EN
VERSION:2.0
BEGIN:VEVENT
DESCRIPTION:2006 Annual Meeting by the American Academy of Neurology\n\nTi
 tle: Differential Diagnosis of Dementia: Improvements in Detection of Dem
 entia\n\nAccess URL: https://www.aan.com/msa/Public/Events/GetEventURL/68
 5\n\nLearn More About This Event: https://www.aan.com/msa/Public/Events/D
 etails/685
DTEND:20060405T083000
DTSTAMP:20260424T122033Z
DTSTART:20060405T064500
LOCATION:https://www.aan.com/msa/Public/Events/GetEventURL/685
SEQUENCE:0
SUMMARY:AAN: Differential Diagnosis of Dementia: Improvements in Detection
  of Dementia
UID:8670f6b3-0548-44da-b023-235bd444b60b
END:VEVENT
END:VCALENDAR
