BEGIN:VCALENDAR
PRODID:-//github.com/rianjs/ical.net//NONSGML ical.net 4.0//EN
VERSION:2.0
BEGIN:VEVENT
DESCRIPTION:2006 Annual Meeting by the American Academy of Neurology\n\nTi
 tle: Evaluation and Management of Autonomic Disorders\n\nAccess URL: http
 s://www.aan.com/msa/Public/Events/GetEventURL/687\n\nLearn More About Thi
 s Event: https://www.aan.com/msa/Public/Events/Details/687
DTEND:20060405T180000
DTSTAMP:20260424T121902Z
DTSTART:20060405T141500
LOCATION:https://www.aan.com/msa/Public/Events/GetEventURL/687
SEQUENCE:0
SUMMARY:AAN: Evaluation and Management of Autonomic Disorders
UID:6db74f96-8b3c-4184-9de9-e9e3c3b4d12f
END:VEVENT
END:VCALENDAR
