BEGIN:VCALENDAR
PRODID:-//github.com/rianjs/ical.net//NONSGML ical.net 4.0//EN
VERSION:2.0
BEGIN:VEVENT
DESCRIPTION:2006 Annual Meeting by the American Academy of Neurology\n\nTi
 tle: Unusual Movement Disorders\n\nAccess URL: https://www.aan.com/msa/Pu
 blic/Events/GetEventURL/691\n\nLearn More About This Event: https://www.a
 an.com/msa/Public/Events/Details/691
DTEND:20060405T220000
DTSTAMP:20260424T121901Z
DTSTART:20060405T190000
LOCATION:https://www.aan.com/msa/Public/Events/GetEventURL/691
SEQUENCE:0
SUMMARY:AAN: Unusual Movement Disorders
UID:1dcb9fe9-70e5-45c6-80fc-dd8767bd7742
END:VEVENT
END:VCALENDAR
