BEGIN:VCALENDAR
PRODID:-//github.com/rianjs/ical.net//NONSGML ical.net 4.0//EN
VERSION:2.0
BEGIN:VEVENT
DESCRIPTION:2006 Annual Meeting by the American Academy of Neurology\n\nTi
 tle: Case Studies in Headache\n\nAccess URL: https://www.aan.com/msa/Publ
 ic/Events/GetEventURL/692\n\nLearn More About This Event: https://www.aan
 .com/msa/Public/Events/Details/692
DTEND:20070502T220000
DTSTAMP:20260424T122033Z
DTSTART:20070502T190000
LOCATION:https://www.aan.com/msa/Public/Events/GetEventURL/692
SEQUENCE:0
SUMMARY:AAN: Case Studies in Headache
UID:693bed6a-055b-4c1b-a39a-b09252864059
END:VEVENT
END:VCALENDAR
