BEGIN:VCALENDAR
PRODID:-//github.com/rianjs/ical.net//NONSGML ical.net 4.0//EN
VERSION:2.0
BEGIN:VEVENT
DESCRIPTION:2006 Annual Meeting by the American Academy of Neurology\n\nTi
 tle: Can I Drive? Can I Fly?\n\nAccess URL: https://www.aan.com/msa/Publi
 c/Events/GetEventURL/695\n\nLearn More About This Event: https://www.aan.
 com/msa/Public/Events/Details/695
DTEND:20060406T083000
DTSTAMP:20260424T121919Z
DTSTART:20060406T064500
LOCATION:https://www.aan.com/msa/Public/Events/GetEventURL/695
SEQUENCE:0
SUMMARY:AAN: Can I Drive? Can I Fly?
UID:9c8ab4aa-47b1-4754-a014-946bc427cbf5
END:VEVENT
END:VCALENDAR
