BEGIN:VCALENDAR
PRODID:-//github.com/rianjs/ical.net//NONSGML ical.net 4.0//EN
VERSION:2.0
BEGIN:VEVENT
DESCRIPTION:2006 Annual Meeting by the American Academy of Neurology\n\nTi
 tle: Coding CPT for Neurodiagnostics\n\nAccess URL: https://www.aan.com/m
 sa/Public/Events/GetEventURL/696\n\nLearn More About This Event: https://
 www.aan.com/msa/Public/Events/Details/696
DTEND:20060406T133000
DTSTAMP:20260424T121902Z
DTSTART:20060406T120000
LOCATION:https://www.aan.com/msa/Public/Events/GetEventURL/696
SEQUENCE:0
SUMMARY:AAN: Coding CPT for Neurodiagnostics
UID:079b8016-f648-4b7c-9056-aa6c3c50a583
END:VEVENT
END:VCALENDAR
