BEGIN:VCALENDAR
PRODID:-//github.com/rianjs/ical.net//NONSGML ical.net 4.0//EN
VERSION:2.0
BEGIN:VEVENT
DESCRIPTION:2006 Annual Meeting by the American Academy of Neurology\n\nTi
 tle: Neurological Disorders in Pregnancy\n\nAccess URL: https://www.aan.c
 om/msa/Public/Events/GetEventURL/697\n\nLearn More About This Event: http
 s://www.aan.com/msa/Public/Events/Details/697
DTEND:20090430T180000
DTSTAMP:20260424T121919Z
DTSTART:20090430T141500
LOCATION:https://www.aan.com/msa/Public/Events/GetEventURL/697
SEQUENCE:0
SUMMARY:AAN: Neurological Disorders in Pregnancy
UID:e9a1a4c0-0da8-4847-89f9-3dc25cce3e2d
END:VEVENT
END:VCALENDAR
