BEGIN:VCALENDAR
PRODID:-//github.com/rianjs/ical.net//NONSGML ical.net 4.0//EN
VERSION:2.0
BEGIN:VEVENT
DESCRIPTION:2006 Annual Meeting by the American Academy of Neurology\n\nTi
 tle: Spine Surgery for the Neurologist\n\nAccess URL: https://www.aan.com
 /msa/Public/Events/GetEventURL/698\n\nLearn More About This Event: https:
 //www.aan.com/msa/Public/Events/Details/698
DTEND:20060406T180000
DTSTAMP:20260424T121916Z
DTSTART:20060406T141500
LOCATION:https://www.aan.com/msa/Public/Events/GetEventURL/698
SEQUENCE:0
SUMMARY:AAN: Spine Surgery for the Neurologist
UID:c3808172-377c-4281-9e83-ae5e0d4657a2
END:VEVENT
END:VCALENDAR
