BEGIN:VCALENDAR
PRODID:-//github.com/rianjs/ical.net//NONSGML ical.net 4.0//EN
VERSION:2.0
BEGIN:VEVENT
DESCRIPTION:2006 Annual Meeting by the American Academy of Neurology\n\nTi
 tle: Neuro-otology\n\nAccess URL: https://www.aan.com/msa/Public/Events/G
 etEventURL/699\n\nLearn More About This Event: https://www.aan.com/msa/Pu
 blic/Events/Details/699
DTEND:20060406T180000
DTSTAMP:20260424T122036Z
DTSTART:20060406T141500
LOCATION:https://www.aan.com/msa/Public/Events/GetEventURL/699
SEQUENCE:0
SUMMARY:AAN: Neuro-otology
UID:09ce8636-8506-4d40-8b16-ffc21150c322
END:VEVENT
END:VCALENDAR
