BEGIN:VCALENDAR
PRODID:-//github.com/rianjs/ical.net//NONSGML ical.net 4.0//EN
VERSION:2.0
BEGIN:VEVENT
DESCRIPTION:2016 Fall Conference by the American Academy of Neurology\n\nT
 itle: Update in Stroke I\n\nAccess URL: https://www.aan.com/msa/Public/Ev
 ents/GetEventURL/70\n\nLearn More About This Event: https://www.aan.com/m
 sa/Public/Events/Details/70
DTEND:20161014T093000
DTSTAMP:20260424T053900Z
DTSTART:20161014T080000
LOCATION:https://www.aan.com/msa/Public/Events/GetEventURL/70
SEQUENCE:0
SUMMARY:AAN: Update in Stroke I
UID:3ff8c716-f18d-479c-b31b-82b3db83482f
END:VEVENT
END:VCALENDAR
