BEGIN:VCALENDAR
PRODID:-//github.com/rianjs/ical.net//NONSGML ical.net 4.0//EN
VERSION:2.0
BEGIN:VEVENT
DESCRIPTION:2006 Annual Meeting by the American Academy of Neurology\n\nTi
 tle: Structure Function Correlations in Behavioral Neurology\n\nAccess UR
 L: https://www.aan.com/msa/Public/Events/GetEventURL/700\n\nLearn More Ab
 out This Event: https://www.aan.com/msa/Public/Events/Details/700
DTEND:20060406T180000
DTSTAMP:20260424T121917Z
DTSTART:20060406T141500
LOCATION:https://www.aan.com/msa/Public/Events/GetEventURL/700
SEQUENCE:0
SUMMARY:AAN: Structure Function Correlations in Behavioral Neurology
UID:70053850-41e2-4159-bea0-056795c98a71
END:VEVENT
END:VCALENDAR
