BEGIN:VCALENDAR
PRODID:-//github.com/rianjs/ical.net//NONSGML ical.net 4.0//EN
VERSION:2.0
BEGIN:VEVENT
DESCRIPTION:2006 Annual Meeting by the American Academy of Neurology\n\nTi
 tle: Neuromuscular Therapy: The Top Ten\n\nAccess URL: https://www.aan.co
 m/msa/Public/Events/GetEventURL/702\n\nLearn More About This Event: https
 ://www.aan.com/msa/Public/Events/Details/702
DTEND:20060406T210000
DTSTAMP:20260424T121859Z
DTSTART:20060406T190000
LOCATION:https://www.aan.com/msa/Public/Events/GetEventURL/702
SEQUENCE:0
SUMMARY:AAN: Neuromuscular Therapy: The Top Ten
UID:4b99df96-c96c-412a-b9cc-9d2711eaade0
END:VEVENT
END:VCALENDAR
