BEGIN:VCALENDAR
PRODID:-//github.com/rianjs/ical.net//NONSGML ical.net 4.0//EN
VERSION:2.0
BEGIN:VEVENT
DESCRIPTION:2006 Annual Meeting by the American Academy of Neurology\n\nTi
 tle: Headache Therapy\n\nAccess URL: https://www.aan.com/msa/Public/Event
 s/GetEventURL/703\n\nLearn More About This Event: https://www.aan.com/msa
 /Public/Events/Details/703
DTEND:20070503T210000
DTSTAMP:20260424T121901Z
DTSTART:20070503T190000
LOCATION:https://www.aan.com/msa/Public/Events/GetEventURL/703
SEQUENCE:0
SUMMARY:AAN: Headache Therapy
UID:cc234757-a672-427d-9eeb-33f2ba21b96d
END:VEVENT
END:VCALENDAR
