BEGIN:VCALENDAR
PRODID:-//github.com/rianjs/ical.net//NONSGML ical.net 4.0//EN
VERSION:2.0
BEGIN:VEVENT
DESCRIPTION:2006 Annual Meeting by the American Academy of Neurology\n\nTi
 tle: Common and Important Ophthalmoscopic Findings\n\nAccess URL: https:/
 /www.aan.com/msa/Public/Events/GetEventURL/705\n\nLearn More About This E
 vent: https://www.aan.com/msa/Public/Events/Details/705
DTEND:20060407T083000
DTSTAMP:20260424T122033Z
DTSTART:20060407T064500
LOCATION:https://www.aan.com/msa/Public/Events/GetEventURL/705
SEQUENCE:0
SUMMARY:AAN: Common and Important Ophthalmoscopic Findings
UID:193d6ecf-a32f-492d-93c5-ff7056bbc720
END:VEVENT
END:VCALENDAR
