BEGIN:VCALENDAR
PRODID:-//github.com/rianjs/ical.net//NONSGML ical.net 4.0//EN
VERSION:2.0
BEGIN:VEVENT
DESCRIPTION:2006 Annual Meeting by the American Academy of Neurology\n\nTi
 tle: Neuro-crossfire I\n\nAccess URL: https://www.aan.com/msa/Public/Even
 ts/GetEventURL/709\n\nLearn More About This Event: https://www.aan.com/ms
 a/Public/Events/Details/709
DTEND:20060407T124500
DTSTAMP:20260424T121901Z
DTSTART:20060407T090000
LOCATION:https://www.aan.com/msa/Public/Events/GetEventURL/709
SEQUENCE:0
SUMMARY:AAN: Neuro-crossfire I
UID:38878bfc-5365-4c3e-ad17-daa44eee3908
END:VEVENT
END:VCALENDAR
