BEGIN:VCALENDAR
PRODID:-//github.com/rianjs/ical.net//NONSGML ical.net 4.0//EN
VERSION:2.0
BEGIN:VEVENT
DESCRIPTION:2016 Fall Conference by the American Academy of Neurology\n\nT
 itle: Practice Management I: CPT Coding - A Case Based Approach\n\nAccess
  URL: https://www.aan.com/msa/Public/Events/GetEventURL/71\n\nLearn More 
 About This Event: https://www.aan.com/msa/Public/Events/Details/71
DTEND:20161014T093000
DTSTAMP:20260424T053859Z
DTSTART:20161014T080000
LOCATION:https://www.aan.com/msa/Public/Events/GetEventURL/71
SEQUENCE:0
SUMMARY:AAN: Practice Management I: CPT Coding - A Case Based Approach
UID:f0b70816-edba-451b-b24a-d6c1101b3792
END:VEVENT
END:VCALENDAR
