BEGIN:VCALENDAR
PRODID:-//github.com/rianjs/ical.net//NONSGML ical.net 4.0//EN
VERSION:2.0
BEGIN:VEVENT
DESCRIPTION:2006 Annual Meeting by the American Academy of Neurology\n\nTi
 tle: Neurological Complications of Systemic Cancer\n\nAccess URL: https:/
 /www.aan.com/msa/Public/Events/GetEventURL/710\n\nLearn More About This E
 vent: https://www.aan.com/msa/Public/Events/Details/710
DTEND:20060407T124500
DTSTAMP:20260424T122034Z
DTSTART:20060407T090000
LOCATION:https://www.aan.com/msa/Public/Events/GetEventURL/710
SEQUENCE:0
SUMMARY:AAN: Neurological Complications of Systemic Cancer
UID:5cae0d85-0127-4c20-ba2e-ca4d93747cba
END:VEVENT
END:VCALENDAR
